BEGIN:VCALENDAR
VERSION:2.0
PRODID:-//Kino Tuškanac//Filmski programi//HR
BEGIN:VEVENT
UID:c3c02e3f48ceae9da1af8846485529e6@kinotuskanac.hr
DTSTAMP:20260425T173350Z
DTSTART:20161028T210000
DTEND:20161028T230000
SUMMARY:Aura
LOCATION:Kino Tuškanac
DESCRIPTION:El aura, Argentina, 2005 R: Fabián Bielinsky
END:VEVENT
END:VCALENDAR