BEGIN:VCALENDAR
VERSION:2.0
PRODID:-//Kino Tuškanac//Filmski programi//HR
BEGIN:VEVENT
UID:0276abb8de6922af4339bb5b6aa7a4a9@kinotuskanac.hr
DTSTAMP:20260422T060749Z
DTSTART:20161003T170000
DTEND:20161003T190000
SUMMARY:Praznični dan
LOCATION:Kino Tuškanac
DESCRIPTION:Jour de fête, Francuska, 1949 R: Jacques Tati
END:VEVENT
END:VCALENDAR