BEGIN:VCALENDAR
VERSION:2.0
PRODID:-//Kino Tuškanac//Filmski programi//HR
BEGIN:VEVENT
UID:01d052650a662ea887559cb3239fb5ab@kinotuskanac.hr
DTSTAMP:20260422T124533Z
DTSTART:20040605T170000
DTEND:20040605T190000
SUMMARY:Družba Pere Kvržice
LOCATION:Kino Tuškanac
DESCRIPTION:Jugoslavija: Hrvatska, 1970 | Mjesto prikazivanja filma: Scena Ribnjak (Centar mladih Ribnjak, Park Ribnjak 1) R: Vladimir Tadej
END:VEVENT
END:VCALENDAR