BEGIN:VCALENDAR
VERSION:2.0
PRODID:-//Kino Tuškanac//Filmski programi//HR
BEGIN:VEVENT
UID:688032d2f231e95056ac2f669d222445@kinotuskanac.hr
DTSTAMP:20260419T141657Z
DTSTART:20161206T190000
DTEND:20161206T210000
SUMMARY:Nimfomanka 2
LOCATION:Kino Tuškanac
DESCRIPTION:Nymphomaniac: Vol. II, Danska, Njemačka, Francuska, Belgija, UK, Švedska, SAD, 2013 R: Lars Von Trier
END:VEVENT
END:VCALENDAR