BEGIN:VCALENDAR
VERSION:2.0
PRODID:-//Kino Tuškanac//Filmski programi//HR
BEGIN:VEVENT
UID:2b5cbceb7ad4bab5c34889ef7a09b074@kinotuskanac.hr
DTSTAMP:20260421T113731Z
DTSTART:20161203T110000
DTEND:20161203T130000
SUMMARY:Kuća velikog mađioničara
LOCATION:Kino Tuškanac
DESCRIPTION:House of Magic, 2013 R: Ben Stassen, Jeremy Degruson
END:VEVENT
END:VCALENDAR