BEGIN:VCALENDAR
VERSION:2.0
PRODID:-//Kino Tuškanac//Filmski programi//HR
BEGIN:VEVENT
UID:7806f56f00a1412bf728c34db91817de@kinotuskanac.hr
DTSTAMP:20260420T115901Z
DTSTART:20161202T170000
DTEND:20161202T190000
SUMMARY:Snowden
LOCATION:Kino Tuškanac
DESCRIPTION:SAD, Njemačka, Francuska, 2016 R: Oliver Stone
END:VEVENT
END:VCALENDAR