BEGIN:VCALENDAR
VERSION:2.0
PRODID:-//Kino Tuškanac//Filmski programi//HR
BEGIN:VEVENT
UID:0795114c389219dac5be4bf2c5f5b47a@kinotuskanac.hr
DTSTAMP:20260420T115928Z
DTSTART:20161207T170000
DTEND:20161207T190000
SUMMARY:Snowden
LOCATION:Kino Tuškanac
DESCRIPTION:SAD, Njemačka, Francuska, 2016 R: Oliver Stone
END:VEVENT
END:VCALENDAR