BEGIN:VCALENDAR
VERSION:2.0
PRODID:-//Kino Tuškanac//Filmski programi//HR
BEGIN:VEVENT
UID:aa5934a9a56bb97daf0fe96bc6e19245@kinotuskanac.hr
DTSTAMP:20260421T154206Z
DTSTART:20161122T180000
DTEND:20161122T200000
SUMMARY:Rukopis nađen u Zaragozi
LOCATION:Kino Tuškanac
DESCRIPTION:Rekopis znaleziony w Saragossie, Poljska, 1965 R: Wojciech Jerzy Has
END:VEVENT
END:VCALENDAR