BEGIN:VCALENDAR
VERSION:2.0
PRODID:-//Kino Tuškanac//Filmski programi//HR
BEGIN:VEVENT
UID:38fd0d2f15d59b3f82885e619de5ebad@kinotuskanac.hr
DTSTAMP:20260421T153156Z
DTSTART:20161129T180000
DTEND:20161129T200000
SUMMARY:Licem u lice
LOCATION:Kino Tuškanac
DESCRIPTION:Hrvatska, Jugoslavija, 1963 R: Branko Bauer
END:VEVENT
END:VCALENDAR