BEGIN:VCALENDAR
VERSION:2.0
PRODID:-//Kino Tuškanac//Filmski programi//HR
BEGIN:VEVENT
UID:5aee5d431768acbc9c12ed1af11a3b5b@kinotuskanac.hr
DTSTAMP:20260420T114853Z
DTSTART:20161231T210000
DTEND:20161231T230000
SUMMARY:Ninočka
LOCATION:Kino Tuškanac
DESCRIPTION:Ninotchka, SAD, 1939 R: Ernst Lubitsch
END:VEVENT
END:VCALENDAR