BEGIN:VCALENDAR
VERSION:2.0
PRODID:-//Kino Tuškanac//Filmski programi//HR
BEGIN:VEVENT
UID:4e5120f1b45fbbb021e24b2f667ffe5d@kinotuskanac.hr
DTSTAMP:20260419T142114Z
DTSTART:20161222T190000
DTEND:20161222T210000
SUMMARY:Nimfomanka 2
LOCATION:Kino Tuškanac
DESCRIPTION:Nymphomaniac: Vol. II, Danska, Njemačka, Francuska, Belgija, UK, Švedska, SAD, 2013 R: Lars Von Trier
END:VEVENT
END:VCALENDAR