BEGIN:VCALENDAR
VERSION:2.0
PRODID:-//Kino Tuškanac//Filmski programi//HR
BEGIN:VEVENT
UID:427196aea3d4647619b85ddd982cf080@kinotuskanac.hr
DTSTAMP:20260422T061139Z
DTSTART:20161212T170000
DTEND:20161212T190000
SUMMARY:Café Society
LOCATION:Kino Tuškanac
DESCRIPTION:SAD, 2016 R: Woody Allen
END:VEVENT
END:VCALENDAR