BEGIN:VCALENDAR
VERSION:2.0
PRODID:-//Kino Tuškanac//Filmski programi//HR
BEGIN:VEVENT
UID:6cd38eed479706e7c4b88391a5da6d4e@kinotuskanac.hr
DTSTAMP:20260420T120541Z
DTSTART:20161213T170000
DTEND:20161213T190000
SUMMARY:Café Society
LOCATION:Kino Tuškanac
DESCRIPTION:SAD, 2016 R: Woody Allen
END:VEVENT
END:VCALENDAR