BEGIN:VCALENDAR
VERSION:2.0
PRODID:-//Kino Tuškanac//Filmski programi//HR
BEGIN:VEVENT
UID:46029d3e17b40030cc9e5533fa1b12b0@kinotuskanac.hr
DTSTAMP:20260420T120718Z
DTSTART:20161214T170000
DTEND:20161214T190000
SUMMARY:Café Society
LOCATION:Kino Tuškanac
DESCRIPTION:SAD, 2016 R: Woody Allen
END:VEVENT
END:VCALENDAR