BEGIN:VCALENDAR
VERSION:2.0
PRODID:-//Kino Tuškanac//Filmski programi//HR
BEGIN:VEVENT
UID:e29995e74db9f50f63cf1b8add741eb7@kinotuskanac.hr
DTSTAMP:20260420T120429Z
DTSTART:20161216T170000
DTEND:20161216T190000
SUMMARY:Café Society
LOCATION:Kino Tuškanac
DESCRIPTION:SAD, 2016 R: Woody Allen
END:VEVENT
END:VCALENDAR