BEGIN:VCALENDAR
VERSION:2.0
PRODID:-//Kino Tuškanac//Filmski programi//HR
BEGIN:VEVENT
UID:a372b764a0d7214752fc84de662a30fd@kinotuskanac.hr
DTSTAMP:20260420T195411Z
DTSTART:20161217T170000
DTEND:20161217T190000
SUMMARY:Julieta
LOCATION:Kino Tuškanac
DESCRIPTION:Španjolska, 2016 R: Pedro Almodóvar
END:VEVENT
END:VCALENDAR