BEGIN:VCALENDAR
VERSION:2.0
PRODID:-//Kino Tuškanac//Filmski programi//HR
BEGIN:VEVENT
UID:be5189dbba2e73db804870dde0ecdd37@kinotuskanac.hr
DTSTAMP:20260420T195752Z
DTSTART:20161219T170000
DTEND:20161219T190000
SUMMARY:Julieta
LOCATION:Kino Tuškanac
DESCRIPTION:Španjolska, 2016 R: Pedro Almodóvar
END:VEVENT
END:VCALENDAR