BEGIN:VCALENDAR
VERSION:2.0
PRODID:-//Kino Tuškanac//Filmski programi//HR
BEGIN:VEVENT
UID:991e8b903b5df4ded5c34f672df0f4d4@kinotuskanac.hr
DTSTAMP:20260420T205952Z
DTSTART:20161220T170000
DTEND:20161220T190000
SUMMARY:Julieta
LOCATION:Kino Tuškanac
DESCRIPTION:Španjolska, 2016 R: Pedro Almodóvar
END:VEVENT
END:VCALENDAR