BEGIN:VCALENDAR
VERSION:2.0
PRODID:-//Kino Tuškanac//Filmski programi//HR
BEGIN:VEVENT
UID:892bfe4527e4633313090c14ddf51fda@kinotuskanac.hr
DTSTAMP:20260422T170553Z
DTSTART:20040706T200000
DTEND:20040706T220000
SUMMARY:Tess
LOCATION:Kino Tuškanac
DESCRIPTION:Francuska, UK, 1979 R: Roman Polanski
END:VEVENT
END:VCALENDAR