BEGIN:VCALENDAR
VERSION:2.0
PRODID:-//Kino Tuškanac//Filmski programi//HR
BEGIN:VEVENT
UID:0cd7f866e71709ebd4005f3b495fc434@kinotuskanac.hr
DTSTAMP:20260420T195549Z
DTSTART:20161221T170000
DTEND:20161221T190000
SUMMARY:Julieta
LOCATION:Kino Tuškanac
DESCRIPTION:Španjolska, 2016 R: Pedro Almodóvar
END:VEVENT
END:VCALENDAR