BEGIN:VCALENDAR
VERSION:2.0
PRODID:-//Kino Tuškanac//Filmski programi//HR
BEGIN:VEVENT
UID:d5b2988679c4a3a32882598460558f77@kinotuskanac.hr
DTSTAMP:20260422T060642Z
DTSTART:20170113T210000
DTEND:20170113T230000
SUMMARY:Café Society
LOCATION:Kino Tuškanac
DESCRIPTION:SAD, 2016 R: Woody Allen
END:VEVENT
END:VCALENDAR