BEGIN:VCALENDAR
VERSION:2.0
PRODID:-//Kino Tuškanac//Filmski programi//HR
BEGIN:VEVENT
UID:0c6c5b79af91a89f4c97069405e68266@kinotuskanac.hr
DTSTAMP:20260420T210247Z
DTSTART:20170114T170000
DTEND:20170114T190000
SUMMARY:Julieta
LOCATION:Kino Tuškanac
DESCRIPTION:Španjolska, 2016 R: Pedro Almodóvar
END:VEVENT
END:VCALENDAR