BEGIN:VCALENDAR
VERSION:2.0
PRODID:-//Kino Tuškanac//Filmski programi//HR
BEGIN:VEVENT
UID:d9e0bcf6339b73bd8a1feb19ea4faf0b@kinotuskanac.hr
DTSTAMP:20260420T195312Z
DTSTART:20170119T190000
DTEND:20170119T210000
SUMMARY:Julieta
LOCATION:Kino Tuškanac
DESCRIPTION:Španjolska, 2016 R: Pedro Almodóvar
END:VEVENT
END:VCALENDAR