BEGIN:VCALENDAR
VERSION:2.0
PRODID:-//Kino Tuškanac//Filmski programi//HR
BEGIN:VEVENT
UID:4b10c927a581d5b9682049db84651f51@kinotuskanac.hr
DTSTAMP:20260420T120504Z
DTSTART:20170119T210000
DTEND:20170119T230000
SUMMARY:Café Society
LOCATION:Kino Tuškanac
DESCRIPTION:SAD, 2016 R: Woody Allen
END:VEVENT
END:VCALENDAR