BEGIN:VCALENDAR
VERSION:2.0
PRODID:-//Kino Tuškanac//Filmski programi//HR
BEGIN:VEVENT
UID:3062bc542ae3d95e76ad83656e6884e6@kinotuskanac.hr
DTSTAMP:20260420T120658Z
DTSTART:20170121T190000
DTEND:20170121T210000
SUMMARY:Café Society
LOCATION:Kino Tuškanac
DESCRIPTION:SAD, 2016 R: Woody Allen
END:VEVENT
END:VCALENDAR