BEGIN:VCALENDAR
VERSION:2.0
PRODID:-//Kino Tuškanac//Filmski programi//HR
BEGIN:VEVENT
UID:3f0bebbf0a62a9ccc24c8279220bfd47@kinotuskanac.hr
DTSTAMP:20260420T195310Z
DTSTART:20170121T210000
DTEND:20170121T230000
SUMMARY:Julieta
LOCATION:Kino Tuškanac
DESCRIPTION:Španjolska, 2016 R: Pedro Almodóvar
END:VEVENT
END:VCALENDAR