BEGIN:VCALENDAR
VERSION:2.0
PRODID:-//Kino Tuškanac//Filmski programi//HR
BEGIN:VEVENT
UID:3324fe3d72f5d4e6a91d4dcef0c3eeef@kinotuskanac.hr
DTSTAMP:20260421T092718Z
DTSTART:20170219T190000
DTEND:20170219T210000
SUMMARY:Kralj Lear (2016)
LOCATION:Kino Tuškanac
DESCRIPTION:King Lear, Velika Britanija, Royal Shakespeare Company, 2016 R: Gregory Doran
END:VEVENT
END:VCALENDAR