BEGIN:VCALENDAR
VERSION:2.0
PRODID:-//Kino Tuškanac//Filmski programi//HR
BEGIN:VEVENT
UID:4874d6d3cb028ca50cdef1df20be1e51@kinotuskanac.hr
DTSTAMP:20260425T031213Z
DTSTART:20170225T110000
DTEND:20170225T130000
SUMMARY:Inspektor Martin i banda puževa
LOCATION:Kino Tuškanac
DESCRIPTION:Hrvatska, 2012 R: Igor Lepčin
END:VEVENT
END:VCALENDAR