BEGIN:VCALENDAR
VERSION:2.0
PRODID:-//Kino Tuškanac//Filmski programi//HR
BEGIN:VEVENT
UID:4dc122e025393abaa0e33a9987ce9418@kinotuskanac.hr
DTSTAMP:20260420T115246Z
DTSTART:20170128T170000
DTEND:20170128T190000
SUMMARY:Ninočka
LOCATION:Kino Tuškanac
DESCRIPTION:Ninotchka, SAD, 1939 R: Ernst Lubitsch
END:VEVENT
END:VCALENDAR