BEGIN:VCALENDAR
VERSION:2.0
PRODID:-//Kino Tuškanac//Filmski programi//HR
BEGIN:VEVENT
UID:7260ef6f8d3bce68296b5682fe63f9d6@kinotuskanac.hr
DTSTAMP:20260420T070810Z
DTSTART:20170202T190000
DTEND:20170202T210000
SUMMARY:Interijeri
LOCATION:Kino Tuškanac
DESCRIPTION:Interiors, SAD, 1978 R: Woody Allen
END:VEVENT
END:VCALENDAR