BEGIN:VCALENDAR
VERSION:2.0
PRODID:-//Kino Tuškanac//Filmski programi//HR
BEGIN:VEVENT
UID:cab342bab9e931ebeb3dbaadc22e5208@kinotuskanac.hr
DTSTAMP:20260420T070810Z
DTSTART:20170203T210000
DTEND:20170203T230000
SUMMARY:Interijeri
LOCATION:Kino Tuškanac
DESCRIPTION:Interiors, SAD, 1978 R: Woody Allen
END:VEVENT
END:VCALENDAR