BEGIN:VCALENDAR
VERSION:2.0
PRODID:-//Kino Tuškanac//Filmski programi//HR
BEGIN:VEVENT
UID:158b8ef254b2b0cc0b57cb753dc1ef06@kinotuskanac.hr
DTSTAMP:20260425T215452Z
DTSTART:20170208T190000
DTEND:20170208T210000
SUMMARY:Andrej Rubljov
LOCATION:Kino Tuškanac
DESCRIPTION:Andrey Rublyov, Rusija, 1966 | Mjesto prikazivanja filma: Centar za kulturu Histrionski dom (Ilica 90) R: Andrei Tarkovsky
END:VEVENT
END:VCALENDAR