BEGIN:VCALENDAR
VERSION:2.0
PRODID:-//Kino Tuškanac//Filmski programi//HR
BEGIN:VEVENT
UID:410812ef8c1589a9a37d10d2551607ed@kinotuskanac.hr
DTSTAMP:20260422T122746Z
DTSTART:20170215T190000
DTEND:20170215T210000
SUMMARY:Solaris
LOCATION:Kino Tuškanac
DESCRIPTION:SSSR, 1972 | Mjesto prikazivanja filma: Centar za kulturu Histrionski dom (Ilica 90) R: Andrei Tarkovsky
END:VEVENT
END:VCALENDAR