BEGIN:VCALENDAR
VERSION:2.0
PRODID:-//Kino Tuškanac//Filmski programi//HR
BEGIN:VEVENT
UID:9726ab95e003eeb2c01548a264530ca5@kinotuskanac.hr
DTSTAMP:20260421T080210Z
DTSTART:20170208T170000
DTEND:20170208T190000
SUMMARY:Izdaleka
LOCATION:Kino Tuškanac
DESCRIPTION:Desde allá, Venezuela, Meksiko, 2015 R: Lorenzo Vigas
END:VEVENT
END:VCALENDAR