BEGIN:VCALENDAR
VERSION:2.0
PRODID:-//Kino Tuškanac//Filmski programi//HR
BEGIN:VEVENT
UID:26373aa9f200436ab41f0c6314657242@kinotuskanac.hr
DTSTAMP:20260421T092717Z
DTSTART:20170211T170000
DTEND:20170211T190000
SUMMARY:Izdaleka
LOCATION:Kino Tuškanac
DESCRIPTION:Desde allá, Venezuela, Meksiko, 2015 R: Lorenzo Vigas
END:VEVENT
END:VCALENDAR