BEGIN:VCALENDAR
VERSION:2.0
PRODID:-//Kino Tuškanac//Filmski programi//HR
BEGIN:VEVENT
UID:1d3bf78360dbb9d64ff71f703e6468e1@kinotuskanac.hr
DTSTAMP:20260421T092859Z
DTSTART:20170218T170000
DTEND:20170218T190000
SUMMARY:Izdaleka
LOCATION:Kino Tuškanac
DESCRIPTION:Desde allá, Venezuela, Meksiko, 2015 R: Lorenzo Vigas
END:VEVENT
END:VCALENDAR