BEGIN:VCALENDAR
VERSION:2.0
PRODID:-//Kino Tuškanac//Filmski programi//HR
BEGIN:VEVENT
UID:19b13593da97e984e15d1bae2d3b121c@kinotuskanac.hr
DTSTAMP:20260421T092703Z
DTSTART:20170221T170000
DTEND:20170221T190000
SUMMARY:Izdaleka
LOCATION:Kino Tuškanac
DESCRIPTION:Desde allá, Venezuela, Meksiko, 2015 R: Lorenzo Vigas
END:VEVENT
END:VCALENDAR