BEGIN:VCALENDAR
VERSION:2.0
PRODID:-//Kino Tuškanac//Filmski programi//HR
BEGIN:VEVENT
UID:452e3451cfa02a1c0ad3077a5fb6adc6@kinotuskanac.hr
DTSTAMP:20260425T233623Z
DTSTART:20170214T190000
DTEND:20170214T210000
SUMMARY:Umri muški
LOCATION:Kino Tuškanac
DESCRIPTION:Die Hard, SAD, 1988 R: John McTiernan
END:VEVENT
END:VCALENDAR