BEGIN:VCALENDAR
VERSION:2.0
PRODID:-//Kino Tuškanac//Filmski programi//HR
BEGIN:VEVENT
UID:e182f7e5a639102526ee9d66f46d00bd@kinotuskanac.hr
DTSTAMP:20260420T120509Z
DTSTART:20170312T160000
DTEND:20170312T180000
SUMMARY:Američka slatkica
LOCATION:Kino Tuškanac
DESCRIPTION:American Honey, UK, SAD, 2016 R: Andrea Arnold
END:VEVENT
END:VCALENDAR