BEGIN:VCALENDAR
VERSION:2.0
PRODID:-//Kino Tuškanac//Filmski programi//HR
BEGIN:VEVENT
UID:5c462821d05cbb2135ce165f1d7a4f14@kinotuskanac.hr
DTSTAMP:20260420T211804Z
DTSTART:20170420T170000
DTEND:20170420T190000
SUMMARY:U suton života
LOCATION:Kino Tuškanac
DESCRIPTION:Twilight of a Life, Belgija, Izrael, 2015 R: Sylvain Biegeleisen
END:VEVENT
END:VCALENDAR