BEGIN:VCALENDAR
VERSION:2.0
PRODID:-//Kino Tuškanac//Filmski programi//HR
BEGIN:VEVENT
UID:193a4969ccc7b8e72a007f236e48dd9c@kinotuskanac.hr
DTSTAMP:20260420T071046Z
DTSTART:20170328T210000
DTEND:20170328T230000
SUMMARY:Interijeri
LOCATION:Kino Tuškanac
DESCRIPTION:Interiors, SAD, 1978 R: Woody Allen
END:VEVENT
END:VCALENDAR