BEGIN:VCALENDAR
VERSION:2.0
PRODID:-//Kino Tuškanac//Filmski programi//HR
BEGIN:VEVENT
UID:8ceb9f8ba4fcb36b2f9cba947cefc6a4@kinotuskanac.hr
DTSTAMP:20260420T070823Z
DTSTART:20170415T190000
DTEND:20170415T210000
SUMMARY:Interijeri
LOCATION:Kino Tuškanac
DESCRIPTION:Interiors, SAD, 1978 R: Woody Allen
END:VEVENT
END:VCALENDAR