BEGIN:VCALENDAR
VERSION:2.0
PRODID:-//Kino Tuškanac//Filmski programi//HR
BEGIN:VEVENT
UID:317a25e8ca59a29f0dd9a0bba93f882b@kinotuskanac.hr
DTSTAMP:20260420T115725Z
DTSTART:20170401T170000
DTEND:20170401T190000
SUMMARY:Mjesečina
LOCATION:Kino Tuškanac
DESCRIPTION:Moonlight, SAD, 2016 R: Barry Jenkins
END:VEVENT
END:VCALENDAR