BEGIN:VCALENDAR
VERSION:2.0
PRODID:-//Kino Tuškanac//Filmski programi//HR
BEGIN:VEVENT
UID:226aeab7ffa5ac3bb7473790623b8237@kinotuskanac.hr
DTSTAMP:20260420T115725Z
DTSTART:20170418T170000
DTEND:20170418T190000
SUMMARY:Mjesečina
LOCATION:Kino Tuškanac
DESCRIPTION:Moonlight, SAD, 2016 R: Barry Jenkins
END:VEVENT
END:VCALENDAR