BEGIN:VCALENDAR
VERSION:2.0
PRODID:-//Kino Tuškanac//Filmski programi//HR
BEGIN:VEVENT
UID:5441a437fcecb4549b0ef9b0399e49b9@kinotuskanac.hr
DTSTAMP:20260421T133412Z
DTSTART:20170506T110000
DTEND:20170506T130000
SUMMARY:Izbor filmova za djecu Zagreb filma
LOCATION:Kino Tuškanac
DESCRIPTION:
END:VEVENT
END:VCALENDAR