BEGIN:VCALENDAR
VERSION:2.0
PRODID:-//Kino Tuškanac//Filmski programi//HR
BEGIN:VEVENT
UID:2b97ea43b2c9a9ac3b5263019e4502c6@kinotuskanac.hr
DTSTAMP:20260420T115630Z
DTSTART:20170314T170000
DTEND:20170314T190000
SUMMARY:Mjesečina
LOCATION:Kino Tuškanac
DESCRIPTION:Moonlight, SAD, 2016 R: Barry Jenkins
END:VEVENT
END:VCALENDAR