BEGIN:VCALENDAR
VERSION:2.0
PRODID:-//Kino Tuškanac//Filmski programi//HR
BEGIN:VEVENT
UID:c5540feb399ab57459978f02b26ad6ae@kinotuskanac.hr
DTSTAMP:20260420T115656Z
DTSTART:20170318T170000
DTEND:20170318T190000
SUMMARY:Mjesečina
LOCATION:Kino Tuškanac
DESCRIPTION:Moonlight, SAD, 2016 R: Barry Jenkins
END:VEVENT
END:VCALENDAR