BEGIN:VCALENDAR
VERSION:2.0
PRODID:-//Kino Tuškanac//Filmski programi//HR
BEGIN:VEVENT
UID:6791a0d8bb58ad58db3f570f48e053ee@kinotuskanac.hr
DTSTAMP:20260420T115657Z
DTSTART:20170321T170000
DTEND:20170321T190000
SUMMARY:Mjesečina
LOCATION:Kino Tuškanac
DESCRIPTION:Moonlight, SAD, 2016 R: Barry Jenkins
END:VEVENT
END:VCALENDAR