BEGIN:VCALENDAR
VERSION:2.0
PRODID:-//Kino Tuškanac//Filmski programi//HR
BEGIN:VEVENT
UID:5eac37eb2f81a2543e5cf560e2f1f6a9@kinotuskanac.hr
DTSTAMP:20260425T020053Z
DTSTART:20170316T190000
DTEND:20170316T210000
SUMMARY:Ana i Nives
LOCATION:Kino Tuškanac
DESCRIPTION:1980 R: Branko Ivanda
END:VEVENT
END:VCALENDAR