BEGIN:VCALENDAR
VERSION:2.0
PRODID:-//Kino Tuškanac//Filmski programi//HR
BEGIN:VEVENT
UID:a5c60ac3871499578428b86b000e5838@kinotuskanac.hr
DTSTAMP:20260423T134650Z
DTSTART:20170316T203000
DTEND:20170316T223000
SUMMARY:Lea i Darija
LOCATION:Kino Tuškanac
DESCRIPTION:Hrvatska, 2011 R: Branko Ivanda
END:VEVENT
END:VCALENDAR